Workbook

Sheet меню
A1: ПРИМЕРНОЕ 20 - ти ДНЕВНОЕ МЕНЮ
A2: ГОРЯЧИЙ ЗАВТРАК, ОБЕД для детей с 7-11 лет (сезон осень,зима,весна)
A3: САХАРНЫЙ ДИАБЕТ(без картофеля)
A4: 1 день
A5: Наименование блюда | B5: Брутто, г | C5: Нетто, г | D5: Химический состав
D6: Выход, г | E6: Белки, г | F6: Жиры, г | G6: Угл. г | H6: ЭЦ, ккал
A8: ЗАВТРАК
A9: Бутерброд с маслом | D9: 18/5 | E9: 1.48 | F9: 6.17 | G9: 9.13 | H9: 73
A10: Хлеб ржаной | B10: =C10 -> 20 | C10: 20 | H10: 175
A11: масло сливочное 72.5 % | B11: =C11 -> 5 | C11: 5
A12: Каша молочная в ассоритменте без сахара | D12: 200 | E12: 2.64 | F12: 5.06 | G12: 20.29 | H12: 161
A13: крупа овсяная | B13: =C13 -> 24 | C13: 24
A14: или крупа гоечневая | B14: =C14 -> 23 | C14: 23
A15: вода | B15: =C15 -> 89 | C15: 89
A16: молоко питьевое 2,5% жирности | B16: =C16 -> 98 | C16: 98
A17: соль йодированая | B17: =C17 -> 0.29 | C17: 0.29
A18: масло сливочное 72.5 % | B18: =C18 -> 2.5 | C18: 2.5
A19: Фрукт (посчитана средняя пищевая ценность - яблоко, апельсин, мандарин) | D19: 120 | E19: 0.66 | F19: 0.38 | G19: 14.25 | H19: 85
A20: Чай без сахара | D20: 200 | E20: 0.01 | F20: 0 | G20: 5.98 | H20: 39.98
A21: чай заварка | B21: =C21 -> 1 | C21: 1
A22: вода питьевая | B22: =C22 -> 205 | C22: 205
A23: Хлеб ржаной | D23: 40 | E23: 2.24 | F23: 0.44 | G23: 23.16 | H23: 55.25
A24: ИТОГО: | D24: 557 | E24: =E23+E20+E19+E12+E9 -> 7.03 | F24: =F9+F12+F19+F20+F23 -> 12.05 | G24: =G9+G12+G19+G20+G23 -> 72.81 | H24: =H23+H20+H19+H12+H9 -> 414.23
A25: ОБЕД
A26: Солянка сборная мясная | D26: 250 | E26: 11.72 | F26: 16.51 | G26: 3.02 | H26: 207.7
A27: курица-тушка | B27: =C27*1.45 -> 70.76 | C27: =C28*1.22 -> 48.8
A28: масса отварной птицы | C28: 40
A29: свинина с/м | B29: =C29*1.05 -> 22.8375 | C29: =C30*1.45 -> 21.75
A30: масса отварной свинины | C30: 15
A31: лук репчатый | B31: =C31*1.18999999999999 -> 20.23 | C31: 17
A32: огурцы соленые | B32: =C32*1.89999999999999 -> 28.5 | C32: 15
A33: томатная паста | B33: =C33 -> 5 | C33: 5
A34: масло растительное | B34: =C34 -> 5 | C34: 5
A35: лимон | B35: =C35*1.13999999999999 -> 1.254 | C35: 1.1
A36: вода питьевая | B36: =C36 -> 220 | C36: 220
A37: соль йодированая | B37: =C37 -> 0.5 | C37: 0.5
A38: Овощное рагу с мясом | D38: 200 | E38: 3.69 | F38: 10.77 | G38: 1.17 | H38: 116.58
A39: свинина с/м | B39: =C39*1.05 -> 73.5 | C39: =C40*1.39999999999999 -> 70
A40: масса тушеного мяса | C40: 50
A41: капуста цветная с/м или брокколи с/м | B41: =C41 -> 140 | C41: 140
A42: лук репчатый | B42: =1.18999999999999*C42 -> 14.875 | C42: 12.5
A43: морковь 20 % | B43: =C43*1.25 -> 25 | C43: 20
A44: морковь 25% | B44: =C44*1.33 -> 26.6 | C44: 20
A45: лавровый лист | B45: =C45 -> 0.01 | C45: 0.01
A46: томатная паста | B46: =C46 -> 7 | C46: 7
A47: соль йодированая | B47: =C47 -> 0.5 | C47: 0.5
A48: масло растительное | B48: =C48 -> 5.38 | C48: 5.38
A49: зелень свежая | B49: =C49*1.35 -> 1.0125 | C49: 0.75
A50: чеснок | B50: =C50*1.2 -> 0.756 | C50: 0.63
A51: или сушеный чеснок | B51: =C51 -> 0.05 | C51: 0.05
A52: вода | B52: =C52 -> 10 | C52: 10
A53: Напиток из ягодно-яблочной смеси без сахара | D53: 200 | E53: 0.27 | F53: 0.09 | G53: 10.21 | H53: 44.14
A54: смесь ягод | B54: =C54 -> 30 | C54: 30
A55: вода питьевая | B55: =C55 -> 215 | C55: 215
A56: Хлеб ржаной | D56: 40 | E56: 2.24 | F56: 0.44 | G56: 23.16 | H56: 55.25
A58: ИТОГО: | D58: =D57+D56+D53+D38+D26 -> 690 | E58: =E57+E56+E53+E38+E26 -> 17.92 | F58: =F57+F56+F53+F38+F26 -> 27.81 | G58: =G57+G56+G53+G38+G26 -> 37.56 | H58: =H57+H56+H53+H38+H26 -> 423.67
A59: Итого за завтрак, обед: | D59: =D58+D24 -> 1247 | E59: =E58+E24 -> 24.95 | F59: =F58+F24 -> 39.86 | G59: =G58+G24 -> 110.37 | H59: =H58+H24 -> 837.9
A60: 2 день
A61: Наименование блюда | B61: Брутто, г | C61: Нетто, г | D61: Химический состав
D62: Выход, г | E62: Белки, г | F62: Жиры, г | G62: Угл. г | H62: ЭЦ, ккал
A64: ЗАВТРАК
A65: Овощи натуральные (на подгарнировку) | D65: 60 | E65: 1.1666667 | F65: 0.16666667 | G65: 4.5 | H65: 23.833333
A66: огурцы свежие | B66: =C66*1.05 -> 63 | C66: 60
A67: Колбаска мясная | D67: 90 | E67: 8.1333333 | F67: 8.8 | G67: 18.02 | H67: 166.77778
A68: фарш говяжий | B68: =C68*1.09 -> 43.6 | C68: 40
A69: филе бедра | B69: =C69*1.1 -> 14.3 | C69: 13
A70: свинина | B70: =C70*1.05 -> 17.85 | C70: 17
A71: вода питьевая | B71: =C71 -> 13 | C71: 13
A73: лук репчатый | B73: =C73*1.09 -> 8.829 | C73: 8.1
A74: соль йодированая | B74: =C74 -> 0.2 | C74: 0.2
A75: яйцо куриное | B75: =C75 -> 2.7 | C75: 2.7
A76: мука пшеничная | B76: =C76 -> 5 | C76: 5
A77: масса п/ф | C77: =SUM(C68:C76) -> 99
A78: масло растительное для смазки листа | B78: =C78 -> 1.5 | C78: 1.5
A79: или
A80: Колбаска мясная п/ф пром. произ | D80: 90 | E80: 8.1333333 | F80: 8.8 | G80: 18.02 | H80: 166.77778
A81: Колбаска мясная п/ф пром. произ | B81: =C81 -> 108 | C81: 108
A82: масло растительное для смазки листа | B82: =C82 -> 1.5 | C82: 1.5
A83: Гречка рассыпчатая | D83: 150 | E83: 4.8 | F83: 6.75 | G83: 24.62 | H83: 200.46
A84: крупа гречневая | B84: =C84 -> 55 | C84: 55
A85: вода питьевая | B85: =C85 -> 106.67 | C85: 106.67
A86: масло растительное | B86: =C86 -> 3.67 | C86: 3.67
A87: соль йодированая | B87: =C87 -> 0.33 | C87: 0.33
A88: Чай без сахара | D88: 200 | E88: 0.01 | F88: 0 | G88: 5.98 | H88: 39.98
A89: чай заварка | B89: =C89 -> 1 | C89: 1
A90: вода питьевая | B90: =C90 -> 205 | C90: 205
A91: Хлеб ржаной | D91: 40 | E91: 2.24 | F91: 0.44 | G91: 23.16 | H91: 55.25
A92: ИТОГО: | E92: =E91+E88+E83+E67+E65 -> 16.35 | F92: =F91+F88+F83+F80+F65 -> 16.156667 | G92: =G91+G88+G83+G80+G65 -> 76.28 | H92: =H91+H88+H83+H67+H65 -> 486.30111
A93: ОБЕД
A94: Кукуруза отварная | D94: 60 | E94: 1.4166667 | F94: 0.11666667 | G94: 24.183333 | H94: 38.15
A95: кукуруза с/м | B95: =C95*1.2 -> 72 | C95: 60
A96: Гуляш из птицы | D96: 90 | E96: 14.9 | F96: 14.36 | G96: 20.41 | H96: 307.22
A97: филе куриное | B97: =C97*1.1 -> 55 | C97: =C98*1.25 -> 50
A98: масса тушеной птицы | C98: 40
A99: томатная паста (без консервантов и красителей) | B99: =C99 -> 5 | C99: 5
A100: лук репчатый | B100: =C100*1.18999999999999 -> 9.52 | C100: 8
A101: мука пшеничная в/с | B101: =C101 -> 2 | C101: 2
A102: масло растительное | B102: =C102 -> 3 | C102: 3
A103: вода питьевая | B103: =C103 -> 60 | C103: 60
A104: соль йодированая | B104: =C104 -> 0.3 | C104: 0.3
...

Sheet меню в зал
A1: ПРИМЕРНОЕ 20 - ти ДНЕВНОЕ МЕНЮ
C3: УТВЕРЖДАЮ
C4: Директор МАОУ СОШ_________________
A5: Горячий завтрак и обед
A6: Индивидуальное меню.
A7: Возрастная категория с7-11 лет
A8: «___»________2026г.
A9: 1 день
A10: Наименование блюда | B10: Химический состав
B11: Выход, г | C11: Белки, г | D11: Жиры, г | E11: Угл. г | F11: ЭЦ, ккал
A13: ЗАВТРАК
A14: Бутерброд с маслом | B14: 18/5 | C14: 1.48 | D14: 6.17 | E14: 9.13 | F14: 73
A15: Каша молочная в ассоритменте без сахара | B15: 200 | C15: 2.64 | D15: 5.06 | E15: 20.29 | F15: 161
A16: =меню!A19 -> Фрукт (посчитана средняя пищевая ценность - яблоко, апельсин, мандарин) | B16: 100 | C16: 120 | D16: 0.66 | E16: 0.38 | F16: 14.25 | G16: 85
A17: Чай без сахара | B17: 200 | C17: 0.01 | D17: 0 | E17: 5.98 | F17: 39.98
A18: Хлеб ржаной | B18: 40 | C18: 2.24 | D18: 0.44 | E18: 23.16 | F18: 55.25
A19: ИТОГО: | B19: 557 | C19: =C18+C17+C16+C15+C14 -> 126.37 | D19: =D14+D15+D16+D17+D18 -> 12.33 | E19: =E14+E15+E16+E17+E18 -> 58.94 | F19: =F18+F17+F16+F15+F14 -> 343.48
A20: ОБЕД
A21: =меню!A26 -> Солянка сборная мясная | B21: =меню!D26 -> 250 | C21: 7.22 | D21: 8.7051724 | E21: 32.54 | F21: 244.92724
A22: =меню!A38 -> Овощное рагу с мясом | B22: 200 | C22: 3.69 | D22: 10.77 | E22: 1.17 | F22: 116.58
A23: Напиток из ягодно-яблочной смеси без сахара | B23: 200 | C23: 0.27 | D23: 0.09 | E23: 10.21 | F23: 44.14
A24: Хлеб ржаной | B24: 40 | C24: 2.24 | D24: 0.44 | E24: 23.16 | F24: 55.25
A26: ИТОГО: | B26: =B25+B24+B23+B22+B21 -> 690 | C26: =C25+C24+C23+C22+C21 -> 13.42 | D26: =D25+D24+D23+D22+D21 -> 20.005172 | E26: =E25+E24+E23+E22+E21 -> 67.08 | F26: =F25+F24+F23+F22+F21 -> 460.89724
A27: Итого за завтрак, обед: | B27: =B26+B19 -> 1247 | C27: =C26+C19 -> 139.79 | D27: =D26+D19 -> 32.335172 | E27: =E26+E19 -> 126.02 | F27: =F26+F19 -> 804.37724
A28: «___»________2026г.
A29: 2 день
A30: Наименование блюда | B30: Химический состав
B31: Выход, г | C31: Белки, г | D31: Жиры, г | E31: Угл. г | F31: ЭЦ, ккал
A33: ЗАВТРАК
A34: Овощи натуральные (на подгарнировку) | B34: =меню!D65 -> 60 | C34: 1.1666667 | D34: 0.16666667 | E34: 4.5 | F34: 23.833333
A35: Колбаска мясная | B35: =меню!D67 -> 90 | C35: 8.1333333 | D35: 8.8 | E35: 18.02 | F35: 166.77778
A36: или
A37: Колбаска мясная п/ф пром. произ | B37: =меню!D80 -> 90 | C37: 8.1333333 | D37: 8.8 | E37: 18.02 | F37: 166.77778
A38: Гречка рассыпчатая | B38: =меню!D83 -> 150 | C38: 4.8 | D38: 6.75 | E38: 24.62 | F38: 200.46
A39: Чай без сахара | B39: 200 | C39: 0.01 | D39: 0 | E39: 5.98 | F39: 39.98
A40: Хлеб ржаной | B40: 40 | C40: 2.24 | D40: 0.44 | E40: 23.16 | F40: 55.25
A41: ИТОГО: | C41: =C40+C39+C38+C35+C34 -> 16.35 | D41: =D40+D39+D38+D37+D34 -> 16.156667 | E41: =E40+E39+E38+E37+E34 -> 76.28 | F41: =F40+F39+F38+F35+F34 -> 486.30111
A42: ОБЕД
A43: =меню!A94 -> Кукуруза отварная | B43: =меню!D94 -> 60 | C43: 1.4166667 | D43: 0.11666667 | E43: 24.183333 | F43: 38.15
A44: Гуляш из птицы | B44: =меню!D96 -> 90 | C44: 14.9 | D44: 14.36 | E44: 20.41 | F44: 307.22
A45: =меню!A105 -> Гречка рассыпчатая | B45: =меню!D105 -> 150 | C45: 4.8 | D45: 6.75 | E45: 24.62 | F45: 200.46
A46: Чай без сахара | B46: 200 | C46: 0.01 | D46: 0 | E46: 5.98 | F46: 39.98
A47: Хлеб ржаной | B47: 20 | C47: 1.12 | D47: 0.22 | E47: 11.58 | F47: 55.25
A49: ИТОГО: | B49: =B48+B47+B46+B45+B44+B43 -> 520 | C49: =C48+C47+C46+C45+C44+C43 -> 22.246667 | D49: =D48+D47+D46+D45+D44+D43 -> 21.446667 | E49: =SUM(E43:E48) -> 86.773333 | F49: =SUM(F43:F48) -> 641.06
A50: Итого за завтрак, обед: | B50: =B49+B41 -> 520 | C50: =C49+C41 -> 38.596667 | D50: =D49+D41 -> 37.603333 | E50: =E49+E41 -> 163.05333 | F50: =F49+F41 -> 1127.3611
D53: УТВЕРЖДАЮ
D54: Директор МАОУ СОШ_________________
A55: Горячий завтрак и обед
A56: Индивидуальное меню.
A57: Возрастная категория с7-11 лет
A58: «___»________2026г.
A59: 3 день
A60: Наименование блюда | B60: Химический состав
B61: Выход, г | C61: Белки, г | D61: Жиры, г | E61: Угл. г | F61: ЭЦ, ккал
A63: ЗАВТРАК
A64: Горячий бутерброд "Пикантный" | B64: 30 | C64: 6.06 | D64: 5.03 | E64: 13.4 | F64: 118.9
A65: =меню!A126 -> Борщ с птицей и сметаной (без картофеля) | B65: =меню!D126 -> 200 | C65: 7.5 | D65: 11.16 | E65: 12.19 | F65: 155.5
A66: Чай с молоком без сахара | B66: 200 | C66: 1.55 | D66: 1.28 | E66: 7 | F66: 56.64
A67: Фрукт (посчитана средняя пищевая ценность - яблоко) | B67: 120 | C67: 0.66 | D67: 0.38 | E67: 14.25 | F67: 85
A68: Хлеб ржаной или хлеб ржаной с содержанием витаминов и минералов | B68: 40 | C68: 2.24 | D68: 0.44 | E68: 23.16 | F68: 110.5
A69: ИТОГО: | B69: =B68+B67+B66+B65+B64 -> 590 | C69: =C68+C67+C66+C65+C64 -> 18.01 | D69: =D68+D67+D66+D65+D64 -> 18.29 | E69: =E68+E67+E66+E65+E64 -> 70 | F69: =F68+F67+F66+F65+F64 -> 526.54
A70: ОБЕД
A71: Суп овощной с птицей | B71: =меню!D151 -> 250 | C71: 9.5 | D71: 7.09 | E71: 22.13 | F71: 187.3
A72: Плов перловый с мясом | B72: =меню!D164 -> 200 | C72: 14.01 | D72: 19.85 | E72: 28.77 | F72: 354.8
A73: Чай без сахара | B73: 200 | C73: 0.01 | D73: 0 | E73: 5.98 | F73: 39.98
A74: Хлеб ржаной | B74: 40 | C74: 2.24 | D74: 0.44 | E74: 23.16 | F74: 110.5
A76: ИТОГО: | B76: =B75+B74+B73+B72+B71 -> 690 | C76: =C75+C74+C73+C72+C71 -> 25.76 | D76: =D75+D74+D73+D72+D71 -> 27.38 | E76: =E75+E74+E73+E72+E71 -> 80.04 | F76: =F75+F74+F73+F72+F71 -> 692.58
A77: Итого за завтрак, обед: | B77: =B76+B69 -> 1280 | C77: =C76+C69 -> 43.77 | D77: =D76+D69 -> 45.67 | E77: =E76+E69 -> 150.04 | F77: =F76+F69 -> 1219.12
A78: «___»________2026г.
A79: 4 день
A80: Наименование блюда | B80: Химический состав
B81: Выход, г | C81: Белки, г | D81: Жиры, г | E81: Угл. г | F81: ЭЦ, ккал
A83: ЗАВТРАК
A84: Овощи натуральные (на подгарнировку) | B84: =меню!D187 -> 60 | C84: 1.1666667 | D84: 0.16666667 | E84: 4.5 | F84: 23.833333
A85: Чахохбили | B85: =меню!D189 -> 90 | C85: 10.11 | D85: 10.87 | E85: 7.76 | F85: 123.18
A86: Гречка рассыпчатая | B86: =меню!D201 -> 150 | C86: 4.8 | D86: 6.75 | E86: 24.62 | F86: 200.46
A87: Чай без сахара | B87: 200 | C87: 0.01 | D87: 0 | E87: 5.98 | F87: 39.98
A88: Хлеб ржаной | B88: 40 | C88: 2.24 | D88: 0.44 | E88: 23.16 | F88: 110.5
A90: ИТОГО: | B90: =B89+B87+B86+B85+B84 -> 500 | C90: =C88+C87+C86+C85+C84 -> 18.326667 | D90: =D88+D87+D86+D85+D84 -> 18.226667 | E90: =E88+E87+E86+E85+E84 -> 66.02 | F90: =F88+F87+F86+F85+F84 -> 497.95333
A91: ОБЕД
A92: =меню!A213 -> Бутерброд с маслом и сыром | B92: =меню!D213 -> 18/5/10 | C92: 5.92 | D92: 7.42 | E92: 11.69 | F92: 117.84
A93: Капуста тушеная с птицей | B93: =меню!D217 -> 200 | C93: 14.21 | D93: 14 | E93: 20.25 | F93: 214.36
A94: Чай без сахара с брусникой | B94: 200 | C94: 0.27 | D94: 0.09 | E94: 0.2 | F94: 24.14
A95: Хлеб ржаной | B95: 30 | C95: 1.68 | D95: 0.33 | E95: 17.37 | F95: 82.87
A97: ИТОГО: | B97: 810
D100: УТВЕРЖДАЮ
D101: Директор МАОУ СОШ_________________
A102: Горячий завтрак и обед
A103: Индивидуальное меню.
A104: Возрастная категория с7-11 лет
A105: «___»________2026г.
A106: 5 день
A107: Наименование блюда | B107: Химический состав
B108: Выход, г | C108: Белки, г | D108: Жиры, г | E108: Угл. г | F108: ЭЦ, ккал
A110: ЗАВТРАК
A111: Шницель рыбный | B111: =меню!D241 -> 90 | C111: 12.05 | D111: 12.4 | E111: 28.05 | F111: 213.6
A112: или
A113: Шницель рыбный п/ф пром.производства | B113: =меню!D254 -> 90 | C113: 12.05 | D113: 12.4 | E113: 28.05 | F113: 213.6
A114: =меню!A257 -> Овощное соте | B114: =меню!D257 -> 180 | C114: 2.28 | D114: 5.88 | E114: 22.86 | F114: 122.4
A115: Чай без сахара | B115: 200 | C115: 0.01 | D115: 0 | E115: 5.98 | F115: 39.98
...

Sheet сетка
A1: Дети с 7 до 11 лет
A2: 1 день | B2: гр | C2: 2 день | D2: гр | E2: 3 день | F2: гр | G2: 4день | H2: гр | I2: 5 день | J2: гр
A3: =меню!#REF! -> #REF! | B3: =меню!#REF! -> #REF! | E3: =меню!A126 -> Борщ с птицей и сметаной (без картофеля) | F3: =меню!D126 -> 200 | G3: =меню!#REF! -> #REF! | H3: =меню!#REF! -> #REF! | I3: =меню!#REF! -> #REF! | J3: =меню!#REF! -> #REF!
G4: или
G5: =меню!#REF! -> #REF! | H5: =меню!#REF! -> #REF!
A6: =меню!#REF! -> #REF! | B6: =меню!#REF! -> #REF! | C6: =меню!A67 -> Колбаска мясная | D6: =меню!D67 -> 90 | E6: =меню!#REF! -> #REF! | F6: =меню!#REF! -> #REF! | G6: =меню!#REF! -> #REF! | H6: =меню!#REF! -> #REF! | I6: =меню!A241 -> Шницель рыбный | J6: =меню!D241 -> 90
C7: =меню!#REF! -> #REF! | D7: =меню!#REF! -> #REF! | G7: =меню!A201 -> Гречка рассыпчатая | H7: =меню!D201 -> 150
A8: =меню!#REF! -> #REF! | B8: =меню!#REF! -> #REF! | C8: =меню!#REF! -> #REF! | D8: =меню!#REF! -> #REF! | E8: =меню!A143 -> Чай с молоком без сахара | F8: =меню!D143 -> 200 | G8: =меню!#REF! -> #REF! | H8: =меню!#REF! -> #REF! | I8: =меню!#REF! -> #REF! | J8: =меню!#REF! -> #REF!
A9: =меню!#REF! -> #REF! | B9: =меню!#REF! -> #REF!
A10: 6 день | B10: гр | C10: 7 день | D10: гр | E10: 8 день | F10: гр | G10: 9 день | H10: гр | I10: 10 день
A11: =меню!#REF! -> #REF! | B11: =меню!#REF! -> #REF! | C11: =меню!#REF! -> #REF! | D11: =меню!#REF! -> #REF! | E11: =меню!#REF! -> #REF! | F11: =меню!#REF! -> #REF! | G11: =меню!#REF! -> #REF! | H11: =меню!#REF! -> #REF!
E12: или | G12: =меню!#REF! -> #REF! | H12: =меню!#REF! -> #REF!
A13: =меню!#REF! -> #REF! | B13: =меню!#REF! -> #REF! | C13: =меню!#REF! -> #REF! | D13: =меню!#REF! -> #REF! | E13: =меню!#REF! -> #REF! | F13: =меню!#REF! -> #REF! | G13: =меню!#REF! -> #REF! | H13: =меню!#REF! -> #REF! | ... J13: =меню!#REF! -> #REF!
A14: =меню!#REF! -> #REF! | B14: 200 | C14: =меню!#REF! -> #REF! | D14: =меню!#REF! -> #REF! | E14: =меню!#REF! -> #REF! | F14: =меню!#REF! -> #REF! | G14: =меню!#REF! -> #REF! | H14: 200 | I14: =меню!#REF! -> #REF! | J14: =меню!#REF! -> #REF!
A15: =меню!#REF! -> #REF! | B15: =меню!#REF! -> #REF! | E15: =меню!#REF! -> #REF! | F15: =меню!#REF! -> #REF! | I15: =меню!#REF! -> #REF! | J15: =меню!#REF! -> #REF!
E16: =меню!#REF! -> #REF! | F16: =меню!#REF! -> #REF! | I16: =меню!#REF! -> #REF! | J16: =меню!#REF! -> #REF!
A17: 11 день | B17: гр | C17: 12 день | D17: гр | E17: 13 день | F17: гр | G17: 14 день | H17: гр | I17: 15 день
A18: =меню!#REF! -> #REF! | B18: =меню!#REF! -> #REF! | C18: =меню!#REF! -> #REF! | D18: =меню!#REF! -> #REF! | E18: =меню!#REF! -> #REF! | F18: =меню!#REF! -> #REF! | G18: =меню!#REF! -> #REF! | I18: =меню!#REF! -> #REF! | J18: =меню!#REF! -> #REF!
E19: или
A20: =меню!#REF! -> #REF! | B20: =меню!#REF! -> #REF! | C20: =меню!#REF! -> #REF! | D20: =меню!#REF! -> #REF! | E20: =меню!#REF! -> #REF! | F20: =меню!#REF! -> #REF! | G20: =меню!A825 -> Чай без сахара | H20: 200 | I20: =меню!#REF! -> #REF! | J20: =меню!#REF! -> #REF!
A21: =меню!#REF! -> #REF! | B21: 200 | C21: или | D21: 200 | E21: =меню!#REF! -> #REF! | F21: =меню!#REF! -> #REF! | G21: =меню!#REF! -> #REF! | H21: 80 | I21: =меню!A869 -> Шницель рыбный | J21: =меню!D869 -> 90
A22: =меню!#REF! -> #REF! | B22: =меню!#REF! -> #REF! | C22: =меню!#REF! -> #REF! | E22: =меню!#REF! -> #REF! | F22: =меню!#REF! -> #REF! | G22: =меню!#REF! -> #REF! | H22: 200 | I22: =меню!#REF! -> #REF! | J22: =меню!#REF! -> #REF!
C23: =меню!#REF! -> #REF! | E23: или | G23: или | I23: =меню!#REF! -> #REF!
E24: =меню!#REF! -> #REF! | G24: =меню!#REF! -> #REF!
E25: =меню!#REF! -> #REF! | F25: 200
A26: 16 день | B26: гр | C26: 17 день | D26: гр | E26: 18 день | F26: гр | G26: 19 день | H26: гр | I26: 20 день | J26: гр
A27: =меню!#REF! -> #REF! | B27: =меню!#REF! -> #REF! | C27: =меню!#REF! -> #REF! | D27: =меню!#REF! -> #REF! | E27: =меню!#REF! -> #REF! | F27: =меню!#REF! -> #REF! | G27: =меню!#REF! -> #REF! | H27: =меню!#REF! -> #REF! | ... J27: =меню!#REF! -> #REF!
E28: или | I28: или
E29: =меню!#REF! -> #REF! | I29: =меню!#REF! -> #REF! | J29: 120
A30: или | C30: =меню!#REF! -> #REF! | D30: =меню!#REF! -> #REF! | E30: =меню!#REF! -> #REF! | G30: =меню!#REF! -> #REF! | H30: =меню!#REF! -> #REF! | I30: =меню!#REF! -> #REF! | J30: =меню!#REF! -> #REF!
A31: =меню!#REF! -> #REF! | B31: 25/5/16 | C31: =меню!#REF! -> #REF! | D31: =меню!#REF! -> #REF! | E31: =меню!#REF! -> #REF! | F31: =меню!#REF! -> #REF! | G31: =меню!A1154 -> Напиток из ягодно-яблочной смеси без сахара | H31: =меню!D1154 -> 200 | I31: =меню!#REF! -> #REF! | J31: =меню!#REF! -> #REF!
A32: =меню!#REF! -> #REF! | B32: 200/5 | C32: или | E32: или | F32: =меню!#REF! -> #REF! | G32: =меню!#REF! -> #REF! | H32: =меню!#REF! -> #REF!
A33: =меню!#REF! -> #REF! | C33: =меню!A741 -> Компот из яблок и лимона без сахара | E33: =меню!#REF! -> #REF! | F33: 150
A34: =меню!#REF! -> #REF! | E34: =меню!#REF! -> #REF! | F34: 150
