Workbook

Sheet меню
A1: ПРИМЕРНОЕ 20 - ти ДНЕВНОЕ МЕНЮ
A2: ГОРЯЧИЙ ЗАВТРАК, ОБЕД для детей с 7-11 лет (сезон осень,зима,весна)
A3: САХАРНЫЙ ДИАБЕТ(без картофеля)
A4: 1 день
A5: Наименование блюда | B5: Брутто, г | C5: Нетто, г | D5: Химический состав
D6: Выход, г | E6: Белки, г | F6: Жиры, г | G6: Угл. г | H6: ЭЦ, ккал
A8: ЗАВТРАК
A9: Бутерброд с маслом | D9: 18/5 | E9: 1.48 | F9: 6.17 | G9: 9.13 | H9: 73
A10: Хлеб ржаной | B10: =C10 -> 20 | C10: 20 | H10: 175
A11: масло сливочное 72.5 % | B11: =C11 -> 5 | C11: 5
A12: Каша молочная в ассоритменте без сахара | D12: 200 | E12: 2.64 | F12: 5.06 | G12: 20.29 | H12: 161
A13: крупа овсяная | B13: =C13 -> 24 | C13: 24
A14: или крупа гоечневая | B14: =C14 -> 23 | C14: 23
A15: вода | B15: =C15 -> 89 | C15: 89
A16: молоко питьевое 2,5% жирности | B16: =C16 -> 98 | C16: 98
A17: соль йодированая | B17: =C17 -> 0.29 | C17: 0.29
A18: масло сливочное 72.5 % | B18: =C18 -> 2.5 | C18: 2.5
A19: Фрукт (посчитана средняя пищевая ценность - яблоко, апельсин, мандарин) | D19: 120 | E19: 0.66 | F19: 0.38 | G19: 14.25 | H19: 85
A20: Чай без сахара | D20: 200 | E20: 0.01 | F20: 0 | G20: 5.98 | H20: 39.98
A21: чай заварка | B21: =C21 -> 1 | C21: 1
A22: вода питьевая | B22: =C22 -> 205 | C22: 205
A23: Хлеб ржаной | D23: 40 | E23: 2.24 | F23: 0.44 | G23: 23.16 | H23: 55.25
A24: ИТОГО: | D24: 557 | E24: =E23+E20+E19+E12+E9 -> 7.03 | F24: =F9+F12+F19+F20+F23 -> 12.05 | G24: =G9+G12+G19+G20+G23 -> 72.81 | H24: =H23+H20+H19+H12+H9 -> 414.23
A25: ОБЕД
A26: Солянка сборная мясная | D26: 250 | E26: 11.72 | F26: 16.51 | G26: 3.02 | H26: 207.7
A27: курица-тушка | B27: =C27*1.45 -> 70.76 | C27: =C28*1.22 -> 48.8
A28: масса отварной птицы | C28: 40
A29: свинина с/м | B29: =C29*1.05 -> 22.8375 | C29: =C30*1.45 -> 21.75
A30: масса отварной свинины | C30: 15
A31: лук репчатый | B31: =C31*1.18999999999999 -> 20.23 | C31: 17
A32: огурцы соленые | B32: =C32*1.89999999999999 -> 28.5 | C32: 15
A33: томатная паста | B33: =C33 -> 5 | C33: 5
A34: масло растительное | B34: =C34 -> 5 | C34: 5
A35: лимон | B35: =C35*1.13999999999999 -> 1.254 | C35: 1.1
A36: вода питьевая | B36: =C36 -> 220 | C36: 220
A37: соль йодированая | B37: =C37 -> 0.5 | C37: 0.5
A38: Овощное рагу с мясом | D38: 200 | E38: 3.69 | F38: 10.77 | G38: 1.17 | H38: 116.58
A39: свинина с/м | B39: =C39*1.05 -> 73.5 | C39: =C40*1.39999999999999 -> 70
A40: масса тушеного мяса | C40: 50
A41: капуста цветная с/м или брокколи с/м | B41: =C41 -> 140 | C41: 140
...

Sheet меню в зал
A1: ПРИМЕРНОЕ 20 - ти ДНЕВНОЕ МЕНЮ
C3: УТВЕРЖДАЮ
C4: Директор МАОУ СОШ_________________
A5: Горячий завтрак и обед
A6: Индивидуальное меню.
A7: Возрастная категория с7-11 лет
A8: «___»________2026г.
A9: 1 день
A10: Наименование блюда | B10: Химический состав
B11: Выход, г | C11: Белки, г | D11: Жиры, г | E11: Угл. г | F11: ЭЦ, ккал
A13: ЗАВТРАК
A14: Бутерброд с маслом | B14: 18/5 | C14: 1.48 | D14: 6.17 | E14: 9.13 | F14: 73
A15: Каша молочная в ассоритменте без сахара | B15: 200 | C15: 2.64 | D15: 5.06 | E15: 20.29 | F15: 161
A16: =меню!A19 -> Фрукт (посчитана средняя пищевая ценность - яблоко, апельсин, мандарин) | B16: 100 | C16: 120 | D16: 0.66 | E16: 0.38 | F16: 14.25 | G16: 85
A17: Чай без сахара | B17: 200 | C17: 0.01 | D17: 0 | E17: 5.98 | F17: 39.98
A18: Хлеб ржаной | B18: 40 | C18: 2.24 | D18: 0.44 | E18: 23.16 | F18: 55.25
A19: ИТОГО: | B19: 557 | C19: =C18+C17+C16+C15+C14 -> 126.37 | D19: =D14+D15+D16+D17+D18 -> 12.33 | E19: =E14+E15+E16+E17+E18 -> 58.94 | F19: =F18+F17+F16+F15+F14 -> 343.48
A20: ОБЕД
A21: =меню!A26 -> Солянка сборная мясная | B21: =меню!D26 -> 250 | C21: 7.22 | D21: 8.7051724 | E21: 32.54 | F21: 244.92724
A22: =меню!A38 -> Овощное рагу с мясом | B22: 200 | C22: 3.69 | D22: 10.77 | E22: 1.17 | F22: 116.58
A23: Напиток из ягодно-яблочной смеси без сахара | B23: 200 | C23: 0.27 | D23: 0.09 | E23: 10.21 | F23: 44.14
A24: Хлеб ржаной | B24: 40 | C24: 2.24 | D24: 0.44 | E24: 23.16 | F24: 55.25
A26: ИТОГО: | B26: =B25+B24+B23+B22+B21 -> 690 | C26: =C25+C24+C23+C22+C21 -> 13.42 | D26: =D25+D24+D23+D22+D21 -> 20.005172 | E26: =E25+E24+E23+E22+E21 -> 67.08 | F26: =F25+F24+F23+F22+F21 -> 460.89724
A27: Итого за завтрак, обед: | B27: =B26+B19 -> 1247 | C27: =C26+C19 -> 139.79 | D27: =D26+D19 -> 32.335172 | E27: =E26+E19 -> 126.02 | F27: =F26+F19 -> 804.37724
A28: «___»________2026г.
A29: 2 день
A30: Наименование блюда | B30: Химический состав
B31: Выход, г | C31: Белки, г | D31: Жиры, г | E31: Угл. г | F31: ЭЦ, ккал
A33: ЗАВТРАК
A34: Овощи натуральные (на подгарнировку) | B34: =меню!D65 -> 60 | C34: 1.1666667 | D34: 0.16666667 | E34: 4.5 | F34: 23.833333
A35: Колбаска мясная | B35: =меню!D67 -> 90 | C35: 8.1333333 | D35: 8.8 | E35: 18.02 | F35: 166.77778
A36: или
A37: Колбаска мясная п/ф пром. произ | B37: =меню!D80 -> 90 | C37: 8.1333333 | D37: 8.8 | E37: 18.02 | F37: 166.77778
A38: Гречка рассыпчатая | B38: =меню!D83 -> 150 | C38: 4.8 | D38: 6.75 | E38: 24.62 | F38: 200.46
A39: Чай без сахара | B39: 200 | C39: 0.01 | D39: 0 | E39: 5.98 | F39: 39.98
A40: Хлеб ржаной | B40: 40 | C40: 2.24 | D40: 0.44 | E40: 23.16 | F40: 55.25
A41: ИТОГО: | C41: =C40+C39+C38+C35+C34 -> 16.35 | D41: =D40+D39+D38+D37+D34 -> 16.156667 | E41: =E40+E39+E38+E37+E34 -> 76.28 | F41: =F40+F39+F38+F35+F34 -> 486.30111
A42: ОБЕД
A43: =меню!A94 -> Кукуруза отварная | B43: =меню!D94 -> 60 | C43: 1.4166667 | D43: 0.11666667 | E43: 24.183333 | F43: 38.15
A44: Гуляш из птицы | B44: =меню!D96 -> 90 | C44: 14.9 | D44: 14.36 | E44: 20.41 | F44: 307.22
...

Sheet сетка
A1: Дети с 7 до 11 лет
A2: 1 день | B2: гр | C2: 2 день | D2: гр | E2: 3 день | F2: гр | G2: 4день | H2: гр | I2: 5 день | J2: гр
A3: =меню!#REF! -> #REF! | B3: =меню!#REF! -> #REF! | E3: =меню!A126 -> Борщ с птицей и сметаной (без картофеля) | F3: =меню!D126 -> 200 | G3: =меню!#REF! -> #REF! | H3: =меню!#REF! -> #REF! | I3: =меню!#REF! -> #REF! | J3: =меню!#REF! -> #REF!
G4: или
G5: =меню!#REF! -> #REF! | H5: =меню!#REF! -> #REF!
A6: =меню!#REF! -> #REF! | B6: =меню!#REF! -> #REF! | C6: =меню!A67 -> Колбаска мясная | D6: =меню!D67 -> 90 | E6: =меню!#REF! -> #REF! | F6: =меню!#REF! -> #REF! | G6: =меню!#REF! -> #REF! | H6: =меню!#REF! -> #REF! | I6: =меню!A241 -> Шницель рыбный | J6: =меню!D241 -> 90
C7: =меню!#REF! -> #REF! | D7: =меню!#REF! -> #REF! | G7: =меню!A201 -> Гречка рассыпчатая | H7: =меню!D201 -> 150
A8: =меню!#REF! -> #REF! | B8: =меню!#REF! -> #REF! | C8: =меню!#REF! -> #REF! | D8: =меню!#REF! -> #REF! | E8: =меню!A143 -> Чай с молоком без сахара | F8: =меню!D143 -> 200 | G8: =меню!#REF! -> #REF! | H8: =меню!#REF! -> #REF! | I8: =меню!#REF! -> #REF! | J8: =меню!#REF! -> #REF!
A9: =меню!#REF! -> #REF! | B9: =меню!#REF! -> #REF!
A10: 6 день | B10: гр | C10: 7 день | D10: гр | E10: 8 день | F10: гр | G10: 9 день | H10: гр | I10: 10 день
A11: =меню!#REF! -> #REF! | B11: =меню!#REF! -> #REF! | C11: =меню!#REF! -> #REF! | D11: =меню!#REF! -> #REF! | E11: =меню!#REF! -> #REF! | F11: =меню!#REF! -> #REF! | G11: =меню!#REF! -> #REF! | H11: =меню!#REF! -> #REF!
E12: или | G12: =меню!#REF! -> #REF! | H12: =меню!#REF! -> #REF!
A13: =меню!#REF! -> #REF! | B13: =меню!#REF! -> #REF! | C13: =меню!#REF! -> #REF! | D13: =меню!#REF! -> #REF! | E13: =меню!#REF! -> #REF! | F13: =меню!#REF! -> #REF! | G13: =меню!#REF! -> #REF! | H13: =меню!#REF! -> #REF! | ... J13: =меню!#REF! -> #REF!
A14: =меню!#REF! -> #REF! | B14: 200 | C14: =меню!#REF! -> #REF! | D14: =меню!#REF! -> #REF! | E14: =меню!#REF! -> #REF! | F14: =меню!#REF! -> #REF! | G14: =меню!#REF! -> #REF! | H14: 200 | I14: =меню!#REF! -> #REF! | J14: =меню!#REF! -> #REF!
A15: =меню!#REF! -> #REF! | B15: =меню!#REF! -> #REF! | E15: =меню!#REF! -> #REF! | F15: =меню!#REF! -> #REF! | I15: =меню!#REF! -> #REF! | J15: =меню!#REF! -> #REF!
E16: =меню!#REF! -> #REF! | F16: =меню!#REF! -> #REF! | I16: =меню!#REF! -> #REF! | J16: =меню!#REF! -> #REF!
A17: 11 день | B17: гр | C17: 12 день | D17: гр | E17: 13 день | F17: гр | G17: 14 день | H17: гр | I17: 15 день
A18: =меню!#REF! -> #REF! | B18: =меню!#REF! -> #REF! | C18: =меню!#REF! -> #REF! | D18: =меню!#REF! -> #REF! | E18: =меню!#REF! -> #REF! | F18: =меню!#REF! -> #REF! | G18: =меню!#REF! -> #REF! | I18: =меню!#REF! -> #REF! | J18: =меню!#REF! -> #REF!
E19: или
A20: =меню!#REF! -> #REF! | B20: =меню!#REF! -> #REF! | C20: =меню!#REF! -> #REF! | D20: =меню!#REF! -> #REF! | E20: =меню!#REF! -> #REF! | F20: =меню!#REF! -> #REF! | G20: =меню!A825 -> Чай без сахара | H20: 200 | I20: =меню!#REF! -> #REF! | J20: =меню!#REF! -> #REF!
A21: =меню!#REF! -> #REF! | B21: 200 | C21: или | D21: 200 | E21: =меню!#REF! -> #REF! | F21: =меню!#REF! -> #REF! | G21: =меню!#REF! -> #REF! | H21: 80 | I21: =меню!A869 -> Шницель рыбный | J21: =меню!D869 -> 90
A22: =меню!#REF! -> #REF! | B22: =меню!#REF! -> #REF! | C22: =меню!#REF! -> #REF! | E22: =меню!#REF! -> #REF! | F22: =меню!#REF! -> #REF! | G22: =меню!#REF! -> #REF! | H22: 200 | I22: =меню!#REF! -> #REF! | J22: =меню!#REF! -> #REF!
C23: =меню!#REF! -> #REF! | E23: или | G23: или | I23: =меню!#REF! -> #REF!
E24: =меню!#REF! -> #REF! | G24: =меню!#REF! -> #REF!
E25: =меню!#REF! -> #REF! | F25: 200
A26: 16 день | B26: гр | C26: 17 день | D26: гр | E26: 18 день | F26: гр | G26: 19 день | H26: гр | I26: 20 день | J26: гр
A27: =меню!#REF! -> #REF! | B27: =меню!#REF! -> #REF! | C27: =меню!#REF! -> #REF! | D27: =меню!#REF! -> #REF! | E27: =меню!#REF! -> #REF! | F27: =меню!#REF! -> #REF! | G27: =меню!#REF! -> #REF! | H27: =меню!#REF! -> #REF! | ... J27: =меню!#REF! -> #REF!
E28: или | I28: или
E29: =меню!#REF! -> #REF! | I29: =меню!#REF! -> #REF! | J29: 120
A30: или | C30: =меню!#REF! -> #REF! | D30: =меню!#REF! -> #REF! | E30: =меню!#REF! -> #REF! | G30: =меню!#REF! -> #REF! | H30: =меню!#REF! -> #REF! | I30: =меню!#REF! -> #REF! | J30: =меню!#REF! -> #REF!
A31: =меню!#REF! -> #REF! | B31: 25/5/16 | C31: =меню!#REF! -> #REF! | D31: =меню!#REF! -> #REF! | E31: =меню!#REF! -> #REF! | F31: =меню!#REF! -> #REF! | G31: =меню!A1154 -> Напиток из ягодно-яблочной смеси без сахара | H31: =меню!D1154 -> 200 | I31: =меню!#REF! -> #REF! | J31: =меню!#REF! -> #REF!
A32: =меню!#REF! -> #REF! | B32: 200/5 | C32: или | E32: или | F32: =меню!#REF! -> #REF! | G32: =меню!#REF! -> #REF! | H32: =меню!#REF! -> #REF!
A33: =меню!#REF! -> #REF! | C33: =меню!A741 -> Компот из яблок и лимона без сахара | E33: =меню!#REF! -> #REF! | F33: 150
A34: =меню!#REF! -> #REF! | E34: =меню!#REF! -> #REF! | F34: 150
